BEGIN:VCALENDAR
VERSION:2.0
PRODID:-//wp-events-plugin.com//7.2.3.1//EN
TZID:Europe/Vienna
X-WR-TIMEZONE:Europe/Vienna
BEGIN:VEVENT
UID:54@turnverein-bad-hall.at
DTSTART;TZID=Europe/Vienna:20260503T130000
DTEND;TZID=Europe/Vienna:20260503T180000
DTSTAMP:20260420T163328Z
URL:https://www.turnverein-bad-hall.at/termine/maiwanderung-2026/
SUMMARY:Maiwanderung 2026
DESCRIPTION:Datum\n3.05.2025\n\nUhrzeit\n\n13:00 - 18:00h\n\nGutes Schuhwer
 k und Trinkflasche empfohlen\n\nRückkehr zur Turnhalle: ca. 18:00 Uhr\n\n
 &nbsp\;\n\nFreunde und Gäste sind herzlich Willkommen!\n\n
ATTACH;FMTTYPE=image/jpeg:https://www.turnverein-bad-hall.at/wp-content/up
 loads/2026/04/Maiwanderung-2026.jpg
CATEGORIES:Verein
END:VEVENT
BEGIN:VTIMEZONE
TZID:Europe/Vienna
X-LIC-LOCATION:Europe/Vienna
BEGIN:DAYLIGHT
DTSTART:20260329T030000
TZOFFSETFROM:+0100
TZOFFSETTO:+0200
TZNAME:CEST
END:DAYLIGHT
END:VTIMEZONE
END:VCALENDAR